BEGIN:VCALENDAR
VERSION:2.0
PRODID:-//jEvents 2.0 for Joomla//EN
CALSCALE:GREGORIAN
METHOD:PUBLISH
BEGIN:VTIMEZONE
TZID:Europe/Stockholm
BEGIN:STANDARD
DTSTART:20221030T020000
RDATE:20230326T030000
TZOFFSETFROM:+0200
TZOFFSETTO:+0100
TZNAME:Europe/Stockholm CET
END:STANDARD
BEGIN:STANDARD
DTSTART:20231029T020000
RDATE:20240331T030000
TZOFFSETFROM:+0200
TZOFFSETTO:+0100
TZNAME:Europe/Stockholm CET
END:STANDARD
BEGIN:STANDARD
DTSTART:20241027T020000
RDATE:20250330T030000
TZOFFSETFROM:+0200
TZOFFSETTO:+0100
TZNAME:Europe/Stockholm CET
END:STANDARD
BEGIN:STANDARD
DTSTART:20251026T020000
RDATE:20260329T030000
TZOFFSETFROM:+0200
TZOFFSETTO:+0100
TZNAME:Europe/Stockholm CET
END:STANDARD
BEGIN:STANDARD
DTSTART:20261025T020000
RDATE:20270328T030000
TZOFFSETFROM:+0200
TZOFFSETTO:+0100
TZNAME:Europe/Stockholm CET
END:STANDARD
BEGIN:STANDARD
DTSTART:20271031T020000
RDATE:20280326T030000
TZOFFSETFROM:+0200
TZOFFSETTO:+0100
TZNAME:Europe/Stockholm CET
END:STANDARD
BEGIN:STANDARD
DTSTART:20281029T020000
RDATE:20290325T030000
TZOFFSETFROM:+0200
TZOFFSETTO:+0100
TZNAME:Europe/Stockholm CET
END:STANDARD
BEGIN:STANDARD
DTSTART:20291028T020000
RDATE:20300331T030000
TZOFFSETFROM:+0200
TZOFFSETTO:+0100
TZNAME:Europe/Stockholm CET
END:STANDARD
BEGIN:STANDARD
DTSTART:20301027T020000
RDATE:20310330T030000
TZOFFSETFROM:+0200
TZOFFSETTO:+0100
TZNAME:Europe/Stockholm CET
END:STANDARD
BEGIN:DAYLIGHT
DTSTART:20220419T180000
RDATE:20221030T020000
TZOFFSETFROM:+0100
TZOFFSETTO:+0200
TZNAME:Europe/Stockholm CEST
END:DAYLIGHT
BEGIN:DAYLIGHT
DTSTART:20230326T030000
RDATE:20231029T020000
TZOFFSETFROM:+0100
TZOFFSETTO:+0200
TZNAME:Europe/Stockholm CEST
END:DAYLIGHT
BEGIN:DAYLIGHT
DTSTART:20240331T030000
RDATE:20241027T020000
TZOFFSETFROM:+0100
TZOFFSETTO:+0200
TZNAME:Europe/Stockholm CEST
END:DAYLIGHT
BEGIN:DAYLIGHT
DTSTART:20250330T030000
RDATE:20251026T020000
TZOFFSETFROM:+0100
TZOFFSETTO:+0200
TZNAME:Europe/Stockholm CEST
END:DAYLIGHT
BEGIN:DAYLIGHT
DTSTART:20260329T030000
RDATE:20261025T020000
TZOFFSETFROM:+0100
TZOFFSETTO:+0200
TZNAME:Europe/Stockholm CEST
END:DAYLIGHT
BEGIN:DAYLIGHT
DTSTART:20270328T030000
RDATE:20271031T020000
TZOFFSETFROM:+0100
TZOFFSETTO:+0200
TZNAME:Europe/Stockholm CEST
END:DAYLIGHT
BEGIN:DAYLIGHT
DTSTART:20280326T030000
RDATE:20281029T020000
TZOFFSETFROM:+0100
TZOFFSETTO:+0200
TZNAME:Europe/Stockholm CEST
END:DAYLIGHT
BEGIN:DAYLIGHT
DTSTART:20290325T030000
RDATE:20291028T020000
TZOFFSETFROM:+0100
TZOFFSETTO:+0200
TZNAME:Europe/Stockholm CEST
END:DAYLIGHT
BEGIN:DAYLIGHT
DTSTART:20300331T030000
RDATE:20301027T020000
TZOFFSETFROM:+0100
TZOFFSETTO:+0200
TZNAME:Europe/Stockholm CEST
END:DAYLIGHT
END:VTIMEZONE
BEGIN:VEVENT
UID:5bd29c1d143a231342c2fca502aca499
CATEGORIES:VIF
CREATED:20230408T084031
SUMMARY:Regelkväll VIF
GEO:11.8517704;57.67034531
LOCATION:LSS Klubbhus - Solhöjdsgatan 16\, Västra Frölunda\, \, 426 76\, 
URL;VALUE=URI:https://www.ifboat.com/kalender/icalrepeat.detail/2023/04/20/265/-/regelkva
 ell-vif-geo-11-8517704-57-67034531?tmpl=component
DESCRIPTION:<p><strong>Regelkväll för kölbåtsseglare på LSS torsdag 20/4</strong></p><p
 >Var? LSS Klubbhus, Solhöjdsgatan 16, Långedrag.&nbsp;</p><p>Parkering vid 
 Långedrags Värdshus eller Långedrags hållplats. (Inte på Solhöjdsgatan)</p>
 <p>När? Torsdagen den 20:e April klockan 18:15.</p><p>Då arrangerar Västkus
 tens IF-båtklubb årets upplaga av Charlotte&nbsp;Greppes regelgenomgång inf
 ör kappseglingssäsongen. Hon är internationell domare och har gästat oss i 
 många år.</p><p>Charlotte kommer att undervisa utifrån regelboken och ett n
 ytt häfte: ”<em>Guiden till kappseglingsreglerna</em>”. Båda regelboken och
  häftet går att beställa via SSF:s webshop. Vi kommer ha ett antal exemplar
  av häftet till försäljning på plats (50 Sek st.).</p><p>Anmäl dig till Gör
 an Ejdeling: <a href="mailto:info@ldss.se"></a><joomla-hidden-mail  is-link
 ="1" is-email="1" first="aW5mbw==" last="bGRzcy5zZQ==" text="aW5mb0BsZHNzLn
 Nl" base="" >Den här e-postadressen skyddas mot spambots. Du måste tillåta 
 JavaScript för att se den.</joomla-hidden-mail> eller tel. 0734-122616 sena
 st tisdag 18/4,&nbsp;så vi kan planera fika till alla.</p><p>Varmt välkomna
 !</p><p>Styrelsen VIF.&nbsp;</p> <a href="https://www.ifboat.com/kalender/i
 calrepeat.detail/2023/04/20/265/-/regelkvaell-vif-geo-11-8517704-57-6703453
 1?tmpl=component">This event was imported from: https://www.ifboat.com/kale
 nder/icalrepeat.detail/2023/04/20/265/-/regelkvaell-vif-geo-11-8517704-57-6
 7034531?tmpl=component</a>CONTACT:Göran Ejdeling, Den här e-postadressen skyddas mot spambots. Du måste tillåta JavaScript för att se den.
DTSTAMP:20260421T234300
DTSTART;TZID=Europe/Stockholm:20230420T180000
SEQUENCE:0
TRANSP:OPAQUE
END:VEVENT
END:VCALENDAR