BEGIN:VCALENDAR
VERSION:2.0
PRODID:-//jEvents 2.0 for Joomla//EN
CALSCALE:GREGORIAN
METHOD:PUBLISH
BEGIN:VTIMEZONE
TZID:Europe/Stockholm
BEGIN:STANDARD
DTSTART:20221117T183000
RDATE:20230326T030000
TZOFFSETFROM:+0200
TZOFFSETTO:+0100
TZNAME:Europe/Stockholm CET
END:STANDARD
BEGIN:STANDARD
DTSTART:20231029T020000
RDATE:20240331T030000
TZOFFSETFROM:+0200
TZOFFSETTO:+0100
TZNAME:Europe/Stockholm CET
END:STANDARD
BEGIN:STANDARD
DTSTART:20241027T020000
RDATE:20250330T030000
TZOFFSETFROM:+0200
TZOFFSETTO:+0100
TZNAME:Europe/Stockholm CET
END:STANDARD
BEGIN:STANDARD
DTSTART:20251026T020000
RDATE:20260329T030000
TZOFFSETFROM:+0200
TZOFFSETTO:+0100
TZNAME:Europe/Stockholm CET
END:STANDARD
BEGIN:STANDARD
DTSTART:20261025T020000
RDATE:20270328T030000
TZOFFSETFROM:+0200
TZOFFSETTO:+0100
TZNAME:Europe/Stockholm CET
END:STANDARD
BEGIN:STANDARD
DTSTART:20271031T020000
RDATE:20280326T030000
TZOFFSETFROM:+0200
TZOFFSETTO:+0100
TZNAME:Europe/Stockholm CET
END:STANDARD
BEGIN:STANDARD
DTSTART:20281029T020000
RDATE:20290325T030000
TZOFFSETFROM:+0200
TZOFFSETTO:+0100
TZNAME:Europe/Stockholm CET
END:STANDARD
BEGIN:STANDARD
DTSTART:20291028T020000
RDATE:20300331T030000
TZOFFSETFROM:+0200
TZOFFSETTO:+0100
TZNAME:Europe/Stockholm CET
END:STANDARD
BEGIN:STANDARD
DTSTART:20301027T020000
RDATE:20310330T030000
TZOFFSETFROM:+0200
TZOFFSETTO:+0100
TZNAME:Europe/Stockholm CET
END:STANDARD
BEGIN:DAYLIGHT
DTSTART:20230326T030000
RDATE:20231029T020000
TZOFFSETFROM:+0100
TZOFFSETTO:+0200
TZNAME:Europe/Stockholm CEST
END:DAYLIGHT
BEGIN:DAYLIGHT
DTSTART:20240331T030000
RDATE:20241027T020000
TZOFFSETFROM:+0100
TZOFFSETTO:+0200
TZNAME:Europe/Stockholm CEST
END:DAYLIGHT
BEGIN:DAYLIGHT
DTSTART:20250330T030000
RDATE:20251026T020000
TZOFFSETFROM:+0100
TZOFFSETTO:+0200
TZNAME:Europe/Stockholm CEST
END:DAYLIGHT
BEGIN:DAYLIGHT
DTSTART:20260329T030000
RDATE:20261025T020000
TZOFFSETFROM:+0100
TZOFFSETTO:+0200
TZNAME:Europe/Stockholm CEST
END:DAYLIGHT
BEGIN:DAYLIGHT
DTSTART:20270328T030000
RDATE:20271031T020000
TZOFFSETFROM:+0100
TZOFFSETTO:+0200
TZNAME:Europe/Stockholm CEST
END:DAYLIGHT
BEGIN:DAYLIGHT
DTSTART:20280326T030000
RDATE:20281029T020000
TZOFFSETFROM:+0100
TZOFFSETTO:+0200
TZNAME:Europe/Stockholm CEST
END:DAYLIGHT
BEGIN:DAYLIGHT
DTSTART:20290325T030000
RDATE:20291028T020000
TZOFFSETFROM:+0100
TZOFFSETTO:+0200
TZNAME:Europe/Stockholm CEST
END:DAYLIGHT
BEGIN:DAYLIGHT
DTSTART:20300331T030000
RDATE:20301027T020000
TZOFFSETFROM:+0100
TZOFFSETTO:+0200
TZNAME:Europe/Stockholm CEST
END:DAYLIGHT
END:VTIMEZONE
BEGIN:VEVENT
UID:39a8ecb46092ab07374988eceeb944fc
CATEGORIES:VIF
CREATED:20231015T102603
SUMMARY:VIF Höstfest
GEO:11.8517704;57.67034531
LOCATION:LSS Klubbhus - Solhöjdsgatan 16\, Västra Frölunda\, \, 426 76\, 
URL;VALUE=URI:https://www.ifboat.com/kalender/icalrepeat.detail/2023/11/18/270/-/vif-hoes
 tfest-geo-11-8517704-57-67034531?tmpl=component
DESCRIPTION:Bästa IF-seglare!\nHösten har tagit sitt grepp om Västkusten. Skogen färgas
  i vackra toner och vinden ruskar på havet. Vad är då bättre än att samlas 
 med vänner, äta gott och prata om sommarens äventyr?\nDatum för VIFs höstfe
 st är lördag 18 november, som vanligt i Långedrags Segelsällskapets mysiga 
 klubbhus på Solhöjdsgatan 16, 426 76 Västra Frölunda (link (https://goo.gl/
 maps/wQ5p3ZYsJpApdLAb7)). Närmaste parkering finns vid GKSS, Talattagatan.\
 nVi börjar kl. 18:30 med en välkomstdrink och därefter är det god mat, trev
 liga samtal, sång, bildspel, quiz, osv. Ta gärna med funderingar, frågor kr
 ing båten, nya idéer för aktiviteter osv till IF-kollegorna att diskutera u
 nder kvällen :-).\nDet finns alkoholfritt att dricka och om så önskas veget
 ariskt alternativ till skaldjursbuffén. Meddela detta, eller andra önskemål
 , i anmälan.\nKostnaden för kvällen är 300 Sek pp, inklusive mat och dricka
 , och betalas på plats, kontant eller med Swish. Deltagare under 18 år, 200
  Sek pp.\nAnmälan: senast tisdag 14 november genom att svara på detta mejl 
 ( (mailto:joop.somhorst@gmail.com)Den här e-postadressen skyddas mot spambo
 ts. Du måste tillåta JavaScript för att se den.), glöm inte att meddela eve
 ntuella matpreferenser.\nHjärtligt välkomna, ta med familjen, besättning, I
 F-vänner mm!\n This event was imported from: https://www.ifboat.com/kalende
 r/icalrepeat.detail/2023/11/18/270/-/vif-hoestfest-geo-11-8517704-57-670345
 31?tmpl=component
X-ALT-DESC;FMTTYPE=text/html:<p>Bästa IF-seglare!</p><p>Hösten har tagit sitt grepp om Västkusten. Skoge
 n färgas i vackra toner och vinden ruskar på havet. Vad är då bättre än att
  samlas med vänner, äta gott och prata om sommarens äventyr?</p><p>Datum fö
 r VIFs höstfest är <strong>lördag 18 november</strong>, som vanligt i Långe
 drags Segelsällskapets mysiga klubbhus på Solhöjdsgatan 16, 426 76 Västra F
 rölunda (<a href="https://goo.gl/maps/wQ5p3ZYsJpApdLAb7">link</a>). Närmast
 e parkering finns vid GKSS, Talattagatan.</p><p>Vi börjar kl. <strong>18:30
 </strong> med en välkomstdrink och därefter är det god mat, trevliga samtal
 , sång, bildspel, quiz, osv. Ta gärna med funderingar, frågor kring båten, 
 nya idéer för aktiviteter osv till IF-kollegorna att diskutera under kvälle
 n :-).</p><p>Det finns alkoholfritt att dricka och om så önskas vegetariskt
  alternativ till skaldjursbuffén. Meddela detta, eller andra önskemål, i an
 mälan.</p><p>Kostnaden för kvällen är 300 Sek pp, inklusive mat och dricka,
  och betalas på plats, kontant eller med Swish. Deltagare under 18 år, 200 
 Sek pp.</p><p><strong>Anmälan</strong>: senast tisdag 14 november genom att
  svara på detta mejl (<a href="mailto:joop.somhorst@gmail.com"></a><joomla-
 hidden-mail  is-link="1" is-email="1" first="am9vcC5zb21ob3JzdA==" last="Z2
 1haWwuY29t" text="am9vcC5zb21ob3JzdEBnbWFpbC5jb20=" base="" >Den här e-post
 adressen skyddas mot spambots. Du måste tillåta JavaScript för att se den.<
 /joomla-hidden-mail>), glöm inte att meddela eventuella matpreferenser.</p>
 <p>Hjärtligt välkomna, ta med familjen, besättning, IF-vänner mm!</p> <a hr
 ef="https://www.ifboat.com/kalender/icalrepeat.detail/2023/11/18/270/-/vif-
 hoestfest-geo-11-8517704-57-67034531?tmpl=component">This event was importe
 d from: https://www.ifboat.com/kalender/icalrepeat.detail/2023/11/18/270/-/
 vif-hoestfest-geo-11-8517704-57-67034531?tmpl=component</a>CONTACT:Joop Somhorst, 073-9028110
DTSTAMP:20260421T234229
DTSTART;TZID=Europe/Stockholm:20231118T183000
SEQUENCE:0
TRANSP:OPAQUE
END:VEVENT
END:VCALENDAR